BEGIN:VCALENDAR
VERSION:2.0
PRODID:-//Super Show//EVENT 1.0//EN
METHOD:PUBLISH
BEGIN:VEVENT
SUMMARY:Ashling Murphy Memorial Fiddle Recital
UID:bd880a3edbe0fa2333bf8915597b1864
SEQUENCE:0
DTSTART:20260329T130000
DTEND:20260329T130000
ORGANIZER;CN=Tullamore TradFest:MAILTO:tullamoretradfest@gmail.com
LOCATION:
DTSTAMP:20260421T112223
DESCRIPTION:
URL:https://www.tullamoretradfest.com/events/ashling-murphy-memorial-fiddle-recital
END:VEVENT
END:VCALENDAR