BEGIN:VCALENDAR
VERSION:2.0
PRODID:-//Super Show//EVENT 1.0//EN
METHOD:PUBLISH
BEGIN:VEVENT
SUMMARY:Paddy's Bar - Session Trail - Saturday
UID:0399a8ca53d7b751132ad47d4f5b50fe
SEQUENCE:0
DTSTART:20260328T210000
DTEND:20260328T210000
ORGANIZER;CN=Tullamore TradFest:MAILTO:tullamoretradfest@gmail.com
LOCATION:Paddy's Bar
DTSTAMP:20260421T095829
DESCRIPTION:<p><span lang="EN-US" style="font-size:12.0pt"><span style="line-height:116%"><span style="font-family:&quot;Aptos&quot;,sans-serif">Cara Finn, Luke Finn, Ois&iacute;n Hannigan</span></span></span></p>
URL:https://www.tullamoretradfest.com/events/paddy-s-bar-session-trail-saturday
END:VEVENT
END:VCALENDAR