BEGIN:VCALENDAR
VERSION:2.0
PRODID:-//Super Show//EVENT 1.0//EN
METHOD:PUBLISH
BEGIN:VEVENT
SUMMARY:Sunday Céilí
UID:ba5dce6b4d6ae56b9f4c87716bd49be5
SEQUENCE:0
DTSTART:20260329T150000
DTEND:20260329T180000
ORGANIZER;CN=Tullamore TradFest:MAILTO:tullamoretradfest@gmail.com
LOCATION:Ballykilmurray Community Centre Hall, R35 D7P1
DTSTAMP:20260421T095953
DESCRIPTION:<p>Glenside C&eacute;il&iacute; Band</p>
URL:https://www.tullamoretradfest.com/events/sunday-ct-ilt-1
END:VEVENT
END:VCALENDAR